BEGIN:VCALENDAR
VERSION:2.0
PRODID:-//85.13.138.186//NONSGML kigkonsult.se iCalcreator 2.20//
CALSCALE:GREGORIAN
METHOD:PUBLISH
X-WR-TIMEZONE:Europe/Berlin
BEGIN:VEVENT
UID:event12286@Gesamtkirchengemeinde Lehrte
DTSTAMP:20260422T102536Z
CATEGORIES:Ganze Gemeinde
DESCRIPTION:🟨 Strickcafé\nCategory: Ganze Gemeinde\nLink: http://matthaeus-
 lehrte.de/index.php?option=com_jem&view=event&id=12286:strickcafe\n
DTSTART;TZID=Europe/Berlin:20270325T150000
DTEND;TZID=Europe/Berlin:20270325T180000
LOCATION:Familienzentrum
SUMMARY:🟨 Strickcafé
URL:http://matthaeus-lehrte.de/index.php?option=com_jem&view=event&id=12286
 :strickcafe
END:VEVENT
END:VCALENDAR