BEGIN:VCALENDAR
VERSION:2.0
PRODID:-//85.13.138.186//NONSGML kigkonsult.se iCalcreator 2.20//
CALSCALE:GREGORIAN
METHOD:PUBLISH
X-WR-TIMEZONE:Europe/Berlin
BEGIN:VEVENT
UID:event12619@Gesamtkirchengemeinde Lehrte
DTSTAMP:20260421T085059Z
CATEGORIES:Frauen
DESCRIPTION: ❓  frauen unterwegs\nCategory: Frauen\nLink: https://matthaeus
 -lehrte.de/index.php?option=com_jem&view=event&id=12619:frauen-unterwegs\n
DTSTART;TZID=Europe/Berlin:20270415T120000
DTEND;TZID=Europe/Berlin:20270415T120000
LOCATION:Anderer Ort
SUMMARY: ❓  frauen unterwegs
URL:https://matthaeus-lehrte.de/index.php?option=com_jem&view=event&id=1261
 9:frauen-unterwegs
END:VEVENT
END:VCALENDAR